Package: GRaNIE Version: 1.11.0 Command: chmod a+r GRaNIE -R && E:\biocbuild\bbs-3.21-bioc\R\bin\R.exe CMD build --keep-empty-dirs --no-resave-data GRaNIE StartedAt: 2025-02-09 19:04:14 -0500 (Sun, 09 Feb 2025) EndedAt: 2025-02-09 19:09:12 -0500 (Sun, 09 Feb 2025) EllapsedTime: 297.8 seconds RetCode: 0 Status: OK PackageFile: GRaNIE_1.11.0.tar.gz PackageFileSize: 3.734 MiB