Package: GRaNIE Version: 1.11.0 Command: E:\biocbuild\bbs-3.21-bioc\R\bin\R.exe CMD check --no-multiarch --install=check:GRaNIE.install-out.txt --library=E:\biocbuild\bbs-3.21-bioc\R\library --no-vignettes --timings GRaNIE_1.11.0.tar.gz StartedAt: 2025-02-05 02:10:09 -0500 (Wed, 05 Feb 2025) EndedAt: 2025-02-05 02:19:18 -0500 (Wed, 05 Feb 2025) EllapsedTime: 548.7 seconds RetCode: 0 Status: WARNINGS CheckDir: GRaNIE.Rcheck Warnings: 1