Package: GRmetrics Version: 1.33.0 Command: rm -rf GRmetrics.buildbin-libdir && mkdir GRmetrics.buildbin-libdir && /Users/biocbuild/BBS/utils/build-universal.sh GRmetrics_1.33.0.tar.gz /Library/Frameworks/R.framework/Resources/bin/R GRmetrics.buildbin-libdir StartedAt: 2025-02-10 00:56:50 -0500 (Mon, 10 Feb 2025) EndedAt: 2025-02-10 00:57:23 -0500 (Mon, 10 Feb 2025) EllapsedTime: 32.6 seconds RetCode: 0 Status: OK PackageFile: GRmetrics_1.33.0.tgz PackageFileSize: 2.003 MiB