Package: GRmetrics Version: 1.33.0 Command: /Library/Frameworks/R.framework/Resources/bin/R CMD build --keep-empty-dirs --no-resave-data GRmetrics StartedAt: 2025-02-09 16:58:34 -0500 (Sun, 09 Feb 2025) EndedAt: 2025-02-09 16:59:27 -0500 (Sun, 09 Feb 2025) EllapsedTime: 53.7 seconds RetCode: 0 Status: OK PackageFile: GRmetrics_1.33.0.tar.gz PackageFileSize: 1.937 MiB