Package: GRmetrics Version: 1.33.0 Command: /Library/Frameworks/R.framework/Resources/bin/R CMD INSTALL GRmetrics StartedAt: 2025-02-12 15:33:22 -0500 (Wed, 12 Feb 2025) EndedAt: 2025-02-12 15:33:51 -0500 (Wed, 12 Feb 2025) EllapsedTime: 29.1 seconds RetCode: 0 Status: OK