Package: GSALightning Version: 1.35.0 Command: rm -rf GSALightning.buildbin-libdir && mkdir GSALightning.buildbin-libdir && /Users/biocbuild/BBS/utils/build-universal.sh GSALightning_1.35.0.tar.gz /Library/Frameworks/R.framework/Resources/bin/R GSALightning.buildbin-libdir StartedAt: 2025-02-09 22:16:45 -0500 (Sun, 09 Feb 2025) EndedAt: 2025-02-09 22:16:48 -0500 (Sun, 09 Feb 2025) EllapsedTime: 3.1 seconds RetCode: 0 Status: OK PackageFile: GSALightning_1.35.0.tgz PackageFileSize: 4.307 MiB