Package: GSALightning Version: 1.35.0 Command: /home/biocbuild/R/R/bin/R CMD build --keep-empty-dirs --no-resave-data GSALightning StartedAt: 2025-01-28 23:24:18 -0000 (Tue, 28 Jan 2025) EndedAt: 2025-01-28 23:26:02 -0000 (Tue, 28 Jan 2025) EllapsedTime: 104.0 seconds RetCode: 0 Status: OK PackageFile: GSALightning_1.35.0.tar.gz PackageFileSize: 4.251 MiB