Package: GSALightning Version: 1.35.0 Command: /home/biocbuild/R/R/bin/R CMD check --install=check:GSALightning.install-out.txt --library=/home/biocbuild/R/R/site-library --no-vignettes --timings GSALightning_1.35.0.tar.gz StartedAt: 2025-01-28 11:18:06 -0000 (Tue, 28 Jan 2025) EndedAt: 2025-01-28 11:18:57 -0000 (Tue, 28 Jan 2025) EllapsedTime: 51.0 seconds RetCode: 0 Status: OK CheckDir: GSALightning.Rcheck Warnings: 0