Package: GSALightning Version: 1.35.0 Command: /home/biocbuild/R/R/bin/R CMD INSTALL GSALightning StartedAt: 2025-01-29 19:30:20 -0000 (Wed, 29 Jan 2025) EndedAt: 2025-01-29 19:30:48 -0000 (Wed, 29 Jan 2025) EllapsedTime: 28.1 seconds RetCode: 0 Status: OK