Package: GSALightning Version: 1.35.0 Command: /Library/Frameworks/R.framework/Resources/bin/R CMD build --keep-empty-dirs --no-resave-data GSALightning StartedAt: 2025-02-09 16:58:46 -0500 (Sun, 09 Feb 2025) EndedAt: 2025-02-09 16:59:59 -0500 (Sun, 09 Feb 2025) EllapsedTime: 73.1 seconds RetCode: 0 Status: OK PackageFile: GSALightning_1.35.0.tar.gz PackageFileSize: 4.271 MiB