Package: GSALightning Version: 1.35.0 Command: /Library/Frameworks/R.framework/Resources/bin/R CMD check --install=check:GSALightning.install-out.txt --library=/Library/Frameworks/R.framework/Resources/library --no-vignettes --timings GSALightning_1.35.0.tar.gz StartedAt: 2025-02-09 21:08:33 -0500 (Sun, 09 Feb 2025) EndedAt: 2025-02-09 21:09:29 -0500 (Sun, 09 Feb 2025) EllapsedTime: 56.2 seconds RetCode: 0 Status: OK CheckDir: GSALightning.Rcheck Warnings: 0