Package: GSALightning Version: 1.35.0 Command: /Library/Frameworks/R.framework/Resources/bin/R CMD INSTALL GSALightning StartedAt: 2025-02-12 15:04:01 -0500 (Wed, 12 Feb 2025) EndedAt: 2025-02-12 15:04:35 -0500 (Wed, 12 Feb 2025) EllapsedTime: 34.2 seconds RetCode: 0 Status: OK