Package: GSALightning Version: 1.35.0 Command: rm -rf GSALightning.buildbin-libdir && mkdir GSALightning.buildbin-libdir && E:\biocbuild\bbs-3.21-bioc\R\bin\R.exe CMD INSTALL --build --library=GSALightning.buildbin-libdir GSALightning_1.35.0.tar.gz StartedAt: 2025-02-13 08:04:16 -0500 (Thu, 13 Feb 2025) EndedAt: 2025-02-13 08:04:35 -0500 (Thu, 13 Feb 2025) EllapsedTime: 18.5 seconds RetCode: 0 Status: OK PackageFile: GSALightning_1.35.0.zip PackageFileSize: 4.26 MiB