Package: GSALightning Version: 1.35.0 Command: E:\biocbuild\bbs-3.21-bioc\R\bin\R.exe CMD check --no-multiarch --install=check:GSALightning.install-out.txt --library=E:\biocbuild\bbs-3.21-bioc\R\library --no-vignettes --timings GSALightning_1.35.0.tar.gz StartedAt: 2025-02-13 01:55:20 -0500 (Thu, 13 Feb 2025) EndedAt: 2025-02-13 01:56:16 -0500 (Thu, 13 Feb 2025) EllapsedTime: 56.5 seconds RetCode: 0 Status: OK CheckDir: GSALightning.Rcheck Warnings: 0