Package: GSALightning Version: 1.35.0 Command: E:\biocbuild\bbs-3.21-bioc\R\bin\R.exe CMD INSTALL GSALightning StartedAt: 2025-02-09 15:19:47 -0500 (Sun, 09 Feb 2025) EndedAt: 2025-02-09 15:20:08 -0500 (Sun, 09 Feb 2025) EllapsedTime: 21.2 seconds RetCode: 0 Status: OK