Package: GSEABase Version: 1.69.0 Command: /Library/Frameworks/R.framework/Resources/bin/R CMD build --keep-empty-dirs --no-resave-data GSEABase StartedAt: 2025-02-04 16:33:07 -0500 (Tue, 04 Feb 2025) EndedAt: 2025-02-04 16:33:36 -0500 (Tue, 04 Feb 2025) EllapsedTime: 29.3 seconds RetCode: 0 Status: OK PackageFile: GSEABase_1.69.0.tar.gz PackageFileSize: 292.5 KiB