Package: GSEABase Version: 1.69.0 Command: /Library/Frameworks/R.framework/Resources/bin/R CMD check --install=check:GSEABase.install-out.txt --library=/Library/Frameworks/R.framework/Resources/library --no-vignettes --timings GSEABase_1.69.0.tar.gz StartedAt: 2025-02-04 19:35:08 -0500 (Tue, 04 Feb 2025) EndedAt: 2025-02-04 19:36:00 -0500 (Tue, 04 Feb 2025) EllapsedTime: 52.6 seconds RetCode: 0 Status: OK CheckDir: GSEABase.Rcheck Warnings: 0