Package: GSEABase Version: 1.69.0 Command: /home/biocbuild/R/R/bin/R CMD INSTALL GSEABase StartedAt: 2025-01-29 19:51:30 -0000 (Wed, 29 Jan 2025) EndedAt: 2025-01-29 19:51:56 -0000 (Wed, 29 Jan 2025) EllapsedTime: 26.5 seconds RetCode: 0 Status: OK