Package: GSEABase Version: 1.69.0 Command: /Library/Frameworks/R.framework/Resources/bin/R CMD INSTALL GSEABase StartedAt: 2025-02-09 15:17:12 -0500 (Sun, 09 Feb 2025) EndedAt: 2025-02-09 15:17:38 -0500 (Sun, 09 Feb 2025) EllapsedTime: 26.1 seconds RetCode: 0 Status: OK