Package: GSEABase Version: 1.69.0 Command: /home/biocbuild/bbs-3.21-bioc/R/bin/R CMD build --keep-empty-dirs --no-resave-data GSEABase StartedAt: 2025-02-09 17:32:02 -0500 (Sun, 09 Feb 2025) EndedAt: 2025-02-09 17:33:09 -0500 (Sun, 09 Feb 2025) EllapsedTime: 66.0 seconds RetCode: 0 Status: OK PackageFile: GSEABase_1.69.0.tar.gz PackageFileSize: 292.5 KiB