Package: GSEABase Version: 1.69.0 Command: /home/biocbuild/bbs-3.21-bioc/R/bin/R CMD check --install=check:GSEABase.install-out.txt --library=/home/biocbuild/bbs-3.21-bioc/R/site-library --timings GSEABase_1.69.0.tar.gz StartedAt: 2025-02-04 22:55:38 -0500 (Tue, 04 Feb 2025) EndedAt: 2025-02-04 22:59:06 -0500 (Tue, 04 Feb 2025) EllapsedTime: 208.4 seconds RetCode: 0 Status: OK CheckDir: GSEABase.Rcheck Warnings: 0