Package: GSEABase Version: 1.69.0 Command: /home/biocbuild/bbs-3.21-bioc/R/bin/R CMD INSTALL GSEABase StartedAt: 2025-02-04 15:26:59 -0500 (Tue, 04 Feb 2025) EndedAt: 2025-02-04 15:27:16 -0500 (Tue, 04 Feb 2025) EllapsedTime: 17.8 seconds RetCode: 0 Status: OK