Package: GSEABase Version: 1.69.0 Command: rm -rf GSEABase.buildbin-libdir && mkdir GSEABase.buildbin-libdir && E:\biocbuild\bbs-3.21-bioc\R\bin\R.exe CMD INSTALL --build --library=GSEABase.buildbin-libdir GSEABase_1.69.0.tar.gz StartedAt: 2025-02-10 07:53:39 -0500 (Mon, 10 Feb 2025) EndedAt: 2025-02-10 07:55:13 -0500 (Mon, 10 Feb 2025) EllapsedTime: 93.6 seconds RetCode: 0 Status: OK PackageFile: GSEABase_1.69.0.zip PackageFileSize: 1.002 MiB