Package: GSEABenchmarkeR Version: 1.27.0 Command: rm -rf GSEABenchmarkeR.buildbin-libdir && mkdir GSEABenchmarkeR.buildbin-libdir && /Users/biocbuild/BBS/utils/build-universal.sh GSEABenchmarkeR_1.27.0.tar.gz /Library/Frameworks/R.framework/Resources/bin/R GSEABenchmarkeR.buildbin-libdir StartedAt: 2025-02-09 22:16:48 -0500 (Sun, 09 Feb 2025) EndedAt: 2025-02-09 22:16:57 -0500 (Sun, 09 Feb 2025) EllapsedTime: 9.2 seconds RetCode: 0 Status: OK PackageFile: GSEABenchmarkeR_1.27.0.tgz PackageFileSize: 682.7 KiB