Package: GSEABenchmarkeR Version: 1.27.0 Command: /Library/Frameworks/R.framework/Resources/bin/R CMD check --install=check:GSEABenchmarkeR.install-out.txt --library=/Library/Frameworks/R.framework/Resources/library --no-vignettes --timings GSEABenchmarkeR_1.27.0.tar.gz StartedAt: 2025-02-09 19:33:12 -0500 (Sun, 09 Feb 2025) EndedAt: 2025-02-09 19:35:01 -0500 (Sun, 09 Feb 2025) EllapsedTime: 109.3 seconds RetCode: 0 Status: OK CheckDir: GSEABenchmarkeR.Rcheck Warnings: 0