Package: GSEABenchmarkeR Version: 1.27.0 Command: rm -rf GSEABenchmarkeR.buildbin-libdir && mkdir GSEABenchmarkeR.buildbin-libdir && /Users/biocbuild/BBS/utils/build-universal.sh GSEABenchmarkeR_1.27.0.tar.gz /Library/Frameworks/R.framework/Resources/bin/R GSEABenchmarkeR.buildbin-libdir StartedAt: 2025-02-13 00:40:00 -0500 (Thu, 13 Feb 2025) EndedAt: 2025-02-13 00:40:33 -0500 (Thu, 13 Feb 2025) EllapsedTime: 32.4 seconds RetCode: 0 Status: OK PackageFile: GSEABenchmarkeR_1.27.0.tgz PackageFileSize: 678.3 KiB