Package: GSEABenchmarkeR Version: 1.27.0 Command: E:\biocbuild\bbs-3.21-bioc\R\bin\R.exe CMD check --no-multiarch --install=check:GSEABenchmarkeR.install-out.txt --library=E:\biocbuild\bbs-3.21-bioc\R\library --no-vignettes --timings GSEABenchmarkeR_1.27.0.tar.gz StartedAt: 2025-02-10 01:45:52 -0500 (Mon, 10 Feb 2025) EndedAt: 2025-02-10 01:51:14 -0500 (Mon, 10 Feb 2025) EllapsedTime: 321.9 seconds RetCode: 0 Status: OK CheckDir: GSEABenchmarkeR.Rcheck Warnings: 0