Package: GSEAlm Version: 1.67.0 Command: /Library/Frameworks/R.framework/Resources/bin/R CMD build --keep-empty-dirs --no-resave-data GSEAlm StartedAt: 2025-02-12 16:33:03 -0500 (Wed, 12 Feb 2025) EndedAt: 2025-02-12 16:33:22 -0500 (Wed, 12 Feb 2025) EllapsedTime: 19.2 seconds RetCode: 0 Status: OK PackageFile: GSEAlm_1.67.0.tar.gz PackageFileSize: 1.245 MiB