Package: GSEAlm Version: 1.67.0 Command: /Library/Frameworks/R.framework/Resources/bin/R CMD check --install=check:GSEAlm.install-out.txt --library=/Library/Frameworks/R.framework/Resources/library --no-vignettes --timings GSEAlm_1.67.0.tar.gz StartedAt: 2025-02-09 19:33:17 -0500 (Sun, 09 Feb 2025) EndedAt: 2025-02-09 19:33:30 -0500 (Sun, 09 Feb 2025) EllapsedTime: 13.1 seconds RetCode: 0 Status: OK CheckDir: GSEAlm.Rcheck Warnings: 0