Package: GSEAlm Version: 1.67.0 Command: /Library/Frameworks/R.framework/Resources/bin/R CMD INSTALL GSEAlm StartedAt: 2025-02-09 15:01:20 -0500 (Sun, 09 Feb 2025) EndedAt: 2025-02-09 15:01:22 -0500 (Sun, 09 Feb 2025) EllapsedTime: 2.4 seconds RetCode: 0 Status: OK