Package: GSEAlm Version: 1.67.0 Command: /Library/Frameworks/R.framework/Resources/bin/R CMD INSTALL GSEAlm StartedAt: 2025-02-09 15:05:05 -0500 (Sun, 09 Feb 2025) EndedAt: 2025-02-09 15:05:17 -0500 (Sun, 09 Feb 2025) EllapsedTime: 12.1 seconds RetCode: 0 Status: OK