Package: GSEAlm Version: 1.67.0 Command: /home/biocbuild/bbs-3.21-bioc/R/bin/R CMD build --keep-empty-dirs --no-resave-data GSEAlm StartedAt: 2025-02-09 17:32:22 -0500 (Sun, 09 Feb 2025) EndedAt: 2025-02-09 17:33:09 -0500 (Sun, 09 Feb 2025) EllapsedTime: 47.0 seconds RetCode: 0 Status: OK PackageFile: GSEAlm_1.67.0.tar.gz PackageFileSize: 1.247 MiB