Package: GSEAlm Version: 1.67.0 Command: /home/biocbuild/bbs-3.21-bioc/R/bin/R CMD INSTALL GSEAlm StartedAt: 2025-02-09 15:13:28 -0500 (Sun, 09 Feb 2025) EndedAt: 2025-02-09 15:13:31 -0500 (Sun, 09 Feb 2025) EllapsedTime: 3.7 seconds RetCode: 0 Status: OK