Package: GSEAlm Version: 1.67.0 Command: E:\biocbuild\bbs-3.21-bioc\R\bin\R.exe CMD check --no-multiarch --install=check:GSEAlm.install-out.txt --library=E:\biocbuild\bbs-3.21-bioc\R\library --no-vignettes --timings GSEAlm_1.67.0.tar.gz StartedAt: 2025-02-10 01:45:54 -0500 (Mon, 10 Feb 2025) EndedAt: 2025-02-10 01:46:31 -0500 (Mon, 10 Feb 2025) EllapsedTime: 37.5 seconds RetCode: 0 Status: OK CheckDir: GSEAlm.Rcheck Warnings: 0