Package: GSEAmining Version: 1.17.0 Command: rm -rf GSEAmining.buildbin-libdir && mkdir GSEAmining.buildbin-libdir && /Users/biocbuild/BBS/utils/build-universal.sh GSEAmining_1.17.0.tar.gz /Library/Frameworks/R.framework/Resources/bin/R GSEAmining.buildbin-libdir StartedAt: 2025-02-09 22:16:50 -0500 (Sun, 09 Feb 2025) EndedAt: 2025-02-09 22:16:54 -0500 (Sun, 09 Feb 2025) EllapsedTime: 4.1 seconds RetCode: 0 Status: OK PackageFile: GSEAmining_1.17.0.tgz PackageFileSize: 1.506 MiB