Package: GSEAmining Version: 1.17.0 Command: /Library/Frameworks/R.framework/Resources/bin/R CMD build --keep-empty-dirs --no-resave-data GSEAmining StartedAt: 2025-02-09 16:33:12 -0500 (Sun, 09 Feb 2025) EndedAt: 2025-02-09 16:33:29 -0500 (Sun, 09 Feb 2025) EllapsedTime: 17.2 seconds RetCode: 0 Status: OK PackageFile: GSEAmining_1.17.0.tar.gz PackageFileSize: 2.839 MiB