Package: GSEAmining Version: 1.17.0 Command: rm -rf GSEAmining.buildbin-libdir && mkdir GSEAmining.buildbin-libdir && /Users/biocbuild/BBS/utils/build-universal.sh GSEAmining_1.17.0.tar.gz /Library/Frameworks/R.framework/Resources/bin/R GSEAmining.buildbin-libdir StartedAt: 2025-02-13 00:40:02 -0500 (Thu, 13 Feb 2025) EndedAt: 2025-02-13 00:40:15 -0500 (Thu, 13 Feb 2025) EllapsedTime: 13.9 seconds RetCode: 0 Status: OK PackageFile: GSEAmining_1.17.0.tgz PackageFileSize: 1.508 MiB