Package: GSEAmining Version: 1.17.0 Command: /Library/Frameworks/R.framework/Resources/bin/R CMD INSTALL GSEAmining StartedAt: 2025-02-12 15:09:06 -0500 (Wed, 12 Feb 2025) EndedAt: 2025-02-12 15:09:21 -0500 (Wed, 12 Feb 2025) EllapsedTime: 15.0 seconds RetCode: 0 Status: OK