Package: GSEAmining Version: 1.17.0 Command: /home/biocbuild/bbs-3.21-bioc/R/bin/R CMD build --keep-empty-dirs --no-resave-data GSEAmining StartedAt: 2025-02-09 17:32:26 -0500 (Sun, 09 Feb 2025) EndedAt: 2025-02-09 17:33:13 -0500 (Sun, 09 Feb 2025) EllapsedTime: 47.0 seconds RetCode: 0 Status: OK PackageFile: GSEAmining_1.17.0.tar.gz PackageFileSize: 2.813 MiB