Package: GSEAmining Version: 1.17.0 Command: /home/biocbuild/bbs-3.21-bioc/R/bin/R CMD INSTALL GSEAmining StartedAt: 2025-02-09 15:11:02 -0500 (Sun, 09 Feb 2025) EndedAt: 2025-02-09 15:11:13 -0500 (Sun, 09 Feb 2025) EllapsedTime: 11.8 seconds RetCode: 0 Status: OK