Package: GSEAmining Version: 1.17.0 Command: rm -rf GSEAmining.buildbin-libdir && mkdir GSEAmining.buildbin-libdir && E:\biocbuild\bbs-3.21-bioc\R\bin\R.exe CMD INSTALL --build --library=GSEAmining.buildbin-libdir GSEAmining_1.17.0.tar.gz StartedAt: 2025-02-13 08:04:28 -0500 (Thu, 13 Feb 2025) EndedAt: 2025-02-13 08:05:01 -0500 (Thu, 13 Feb 2025) EllapsedTime: 33.7 seconds RetCode: 0 Status: OK PackageFile: GSEAmining_1.17.0.zip PackageFileSize: 665.1 KiB