Package: GSEAmining Version: 1.17.0 Command: chmod a+r GSEAmining -R && E:\biocbuild\bbs-3.21-bioc\R\bin\R.exe CMD build --keep-empty-dirs --no-resave-data GSEAmining StartedAt: 2025-02-09 19:06:44 -0500 (Sun, 09 Feb 2025) EndedAt: 2025-02-09 19:08:55 -0500 (Sun, 09 Feb 2025) EllapsedTime: 130.8 seconds RetCode: 0 Status: OK PackageFile: GSEAmining_1.17.0.tar.gz PackageFileSize: 1.981 MiB