Package: GSRI Version: 2.55.0 Command: /Library/Frameworks/R.framework/Resources/bin/R CMD INSTALL GSRI StartedAt: 2025-02-04 15:20:06 -0500 (Tue, 04 Feb 2025) EndedAt: 2025-02-04 15:20:14 -0500 (Tue, 04 Feb 2025) EllapsedTime: 7.9 seconds RetCode: 0 Status: OK