Package: GSRI Version: 2.55.0 Command: /home/biocbuild/R/R/bin/R CMD build --keep-empty-dirs --no-resave-data GSRI StartedAt: 2025-01-28 23:26:43 -0000 (Tue, 28 Jan 2025) EndedAt: 2025-01-28 23:27:33 -0000 (Tue, 28 Jan 2025) EllapsedTime: 50.0 seconds RetCode: 0 Status: OK PackageFile: GSRI_2.55.0.tar.gz PackageFileSize: 331.2 KiB