Package: GSRI Version: 2.55.0 Command: /home/biocbuild/R/R/bin/R CMD INSTALL GSRI StartedAt: 2025-01-29 20:16:20 -0000 (Wed, 29 Jan 2025) EndedAt: 2025-01-29 20:16:50 -0000 (Wed, 29 Jan 2025) EllapsedTime: 29.6 seconds RetCode: 0 Status: OK