Package: GSRI Version: 2.55.0 Command: /Library/Frameworks/R.framework/Resources/bin/R CMD check --install=check:GSRI.install-out.txt --library=/Library/Frameworks/R.framework/Resources/library --no-vignettes --timings GSRI_2.55.0.tar.gz StartedAt: 2025-02-09 21:09:43 -0500 (Sun, 09 Feb 2025) EndedAt: 2025-02-09 21:12:51 -0500 (Sun, 09 Feb 2025) EllapsedTime: 187.7 seconds RetCode: 0 Status: OK CheckDir: GSRI.Rcheck Warnings: 0