Package: GSRI Version: 2.55.0 Command: /home/biocbuild/bbs-3.21-bioc/R/bin/R CMD INSTALL GSRI StartedAt: 2025-02-03 15:39:29 -0500 (Mon, 03 Feb 2025) EndedAt: 2025-02-03 15:39:48 -0500 (Mon, 03 Feb 2025) EllapsedTime: 19.6 seconds RetCode: 0 Status: OK