Package: GSRI Version: 2.55.0 Command: chmod a+r GSRI -R && E:\biocbuild\bbs-3.21-bioc\R\bin\R.exe CMD build --keep-empty-dirs --no-resave-data GSRI StartedAt: 2025-02-09 19:07:44 -0500 (Sun, 09 Feb 2025) EndedAt: 2025-02-09 19:08:45 -0500 (Sun, 09 Feb 2025) EllapsedTime: 61.3 seconds RetCode: 0 Status: OK PackageFile: GSRI_2.55.0.tar.gz PackageFileSize: 208.3 KiB