Package: GSRI Version: 2.55.0 Command: E:\biocbuild\bbs-3.21-bioc\R\bin\R.exe CMD check --no-multiarch --install=check:GSRI.install-out.txt --library=E:\biocbuild\bbs-3.21-bioc\R\library --no-vignettes --timings GSRI_2.55.0.tar.gz StartedAt: 2025-02-04 02:16:00 -0500 (Tue, 04 Feb 2025) EndedAt: 2025-02-04 02:19:11 -0500 (Tue, 04 Feb 2025) EllapsedTime: 191.1 seconds RetCode: 0 Status: OK CheckDir: GSRI.Rcheck Warnings: 0