Package: GSRI Version: 2.55.0 Command: E:\biocbuild\bbs-3.21-bioc\R\bin\R.exe CMD INSTALL GSRI StartedAt: 2025-02-09 15:56:44 -0500 (Sun, 09 Feb 2025) EndedAt: 2025-02-09 15:57:22 -0500 (Sun, 09 Feb 2025) EllapsedTime: 38.0 seconds RetCode: 0 Status: OK